BEGIN:VCALENDAR
VERSION:2.0
PRODID:-//Stedelijke Basisschool Burgstraat - ECPv6.15.20//NONSGML v1.0//EN
CALSCALE:GREGORIAN
METHOD:PUBLISH
X-ORIGINAL-URL:https://burgstraat.sbsgeel.be
X-WR-CALDESC:Evenementen voor Stedelijke Basisschool Burgstraat
REFRESH-INTERVAL;VALUE=DURATION:PT1H
X-Robots-Tag:noindex
X-PUBLISHED-TTL:PT1H
BEGIN:VTIMEZONE
TZID:UTC
BEGIN:STANDARD
TZOFFSETFROM:+0000
TZOFFSETTO:+0000
TZNAME:UTC
DTSTART:20150101T000000
END:STANDARD
END:VTIMEZONE
BEGIN:VEVENT
DTSTART;TZID=UTC:20170323T084500
DTEND;TZID=UTC:20170323T152000
DTSTAMP:20260421T094832
CREATED:20170302T105338Z
LAST-MODIFIED:20170302T105338Z
UID:1107-1490258700-1490282400@burgstraat.sbsgeel.be
SUMMARY:L5 naar de Hooibeekhoeve
DESCRIPTION:
URL:https://burgstraat.sbsgeel.be/event/l5-naar-de-hooibeekhoeve/
END:VEVENT
BEGIN:VEVENT
DTSTART;TZID=UTC:20170321T152000
DTEND;TZID=UTC:20170321T190000
DTSTAMP:20260421T094832
CREATED:20170302T105249Z
LAST-MODIFIED:20170302T105249Z
UID:1105-1490109600-1490122800@burgstraat.sbsgeel.be
SUMMARY:Selectief oudercontact L2 t.e.m. L5 en KO
DESCRIPTION:Oudercontact op uitnodiging van de klasleerkracht
URL:https://burgstraat.sbsgeel.be/event/selectief-oudercontact-l2-t-e-m-l5-en-ko/
END:VEVENT
BEGIN:VEVENT
DTSTART;TZID=UTC:20170321T135000
DTEND;TZID=UTC:20170321T143000
DTSTAMP:20260421T094832
CREATED:20170302T104823Z
LAST-MODIFIED:20170302T104823Z
UID:1100-1490104200-1490106600@burgstraat.sbsgeel.be
SUMMARY:Zwemmen L1
DESCRIPTION:
URL:https://burgstraat.sbsgeel.be/event/zwemmen-l1-3/
END:VEVENT
BEGIN:VEVENT
DTSTART;TZID=UTC:20170320T084500
DTEND;TZID=UTC:20170320T152000
DTSTAMP:20260421T094832
CREATED:20170302T104729Z
LAST-MODIFIED:20170302T104901Z
UID:1098-1489999500-1490023200@burgstraat.sbsgeel.be
SUMMARY:Voorstelling 'Vies Vuilland' voor de kleuters
DESCRIPTION:
URL:https://burgstraat.sbsgeel.be/event/voorstelling-vies-vuilland-voor-de-kleuters/
END:VEVENT
BEGIN:VEVENT
DTSTART;TZID=UTC:20170317T091000
DTEND;TZID=UTC:20170317T095000
DTSTAMP:20260421T094832
CREATED:20170302T104323Z
LAST-MODIFIED:20170302T104323Z
UID:1091-1489741800-1489744200@burgstraat.sbsgeel.be
SUMMARY:Zwemmen L2
DESCRIPTION:
URL:https://burgstraat.sbsgeel.be/event/zwemmen-l2-2/
END:VEVENT
BEGIN:VEVENT
DTSTART;TZID=UTC:20170317T084500
DTEND;TZID=UTC:20170317T152000
DTSTAMP:20260421T094832
CREATED:20170302T104510Z
LAST-MODIFIED:20170302T104510Z
UID:1095-1489740300-1489764000@burgstraat.sbsgeel.be
SUMMARY:Schoolfotograaf
DESCRIPTION:
URL:https://burgstraat.sbsgeel.be/event/schoolfotograaf-2/
END:VEVENT
BEGIN:VEVENT
DTSTART;TZID=UTC:20170316T084500
DTEND;TZID=UTC:20170316T152000
DTSTAMP:20260421T094832
CREATED:20170302T104438Z
LAST-MODIFIED:20170302T104438Z
UID:1093-1489653900-1489677600@burgstraat.sbsgeel.be
SUMMARY:Schoolfotograaf
DESCRIPTION:
URL:https://burgstraat.sbsgeel.be/event/schoolfotograaf/
END:VEVENT
BEGIN:VEVENT
DTSTART;TZID=UTC:20170315T133000
DTEND;TZID=UTC:20170315T153000
DTSTAMP:20260421T094832
CREATED:20170302T104202Z
LAST-MODIFIED:20170302T104202Z
UID:1089-1489584600-1489591800@burgstraat.sbsgeel.be
SUMMARY:Kindergemeenteraad
DESCRIPTION:De kindergemeenteraad gaat door op 15 maart in de vergaderzaal van het St. Jozefinstituut (Technische Schoolstraat 52\, 2440 Geel).
URL:https://burgstraat.sbsgeel.be/event/kindergemeenteraad/
END:VEVENT
BEGIN:VEVENT
DTSTART;TZID=UTC:20170314T200000
DTEND;TZID=UTC:20170314T220000
DTSTAMP:20260421T094832
CREATED:20170302T124142Z
LAST-MODIFIED:20170302T124142Z
UID:1178-1489521600-1489528800@burgstraat.sbsgeel.be
SUMMARY:Ouderraad
DESCRIPTION:
URL:https://burgstraat.sbsgeel.be/event/ouderraad-4/
END:VEVENT
BEGIN:VEVENT
DTSTART;TZID=UTC:20170314T135000
DTEND;TZID=UTC:20170314T143000
DTSTAMP:20260421T094832
CREATED:20170302T103951Z
LAST-MODIFIED:20170302T103951Z
UID:1087-1489499400-1489501800@burgstraat.sbsgeel.be
SUMMARY:Zwemmen L1
DESCRIPTION:
URL:https://burgstraat.sbsgeel.be/event/zwemmen-l1-2/
END:VEVENT
BEGIN:VEVENT
DTSTART;TZID=UTC:20170310T091000
DTEND;TZID=UTC:20170310T095000
DTSTAMP:20260421T094832
CREATED:20170302T103914Z
LAST-MODIFIED:20170302T103914Z
UID:1085-1489137000-1489139400@burgstraat.sbsgeel.be
SUMMARY:Zwemmen L2
DESCRIPTION:
URL:https://burgstraat.sbsgeel.be/event/zwemmen-l2/
END:VEVENT
BEGIN:VEVENT
DTSTART;TZID=UTC:20170308T180000
DTEND;TZID=UTC:20170308T193000
DTSTAMP:20260421T094832
CREATED:20170302T103827Z
LAST-MODIFIED:20170302T104626Z
UID:1083-1488996000-1489001400@burgstraat.sbsgeel.be
SUMMARY:Kijkdag nieuwe kleuters en hun ouders
DESCRIPTION:
URL:https://burgstraat.sbsgeel.be/event/kijkdag-kleuters-en-hun-ouders/
END:VEVENT
BEGIN:VEVENT
DTSTART;TZID=UTC:20170307T135000
DTEND;TZID=UTC:20170307T143000
DTSTAMP:20260421T094832
CREATED:20170302T103703Z
LAST-MODIFIED:20170302T103703Z
UID:1081-1488894600-1488897000@burgstraat.sbsgeel.be
SUMMARY:Zwemmen L1
DESCRIPTION:
URL:https://burgstraat.sbsgeel.be/event/zwemmen-l1/
END:VEVENT
BEGIN:VEVENT
DTSTART;TZID=UTC:20170306T084500
DTEND;TZID=UTC:20170306T152000
DTSTAMP:20260421T094832
CREATED:20170302T102939Z
LAST-MODIFIED:20170302T102939Z
UID:1075-1488789900-1488813600@burgstraat.sbsgeel.be
SUMMARY:Instapdag kleutertjes
DESCRIPTION:
URL:https://burgstraat.sbsgeel.be/event/instapdag-kleutertjes-2/
END:VEVENT
BEGIN:VEVENT
DTSTART;TZID=UTC:20170227T080000
DTEND;TZID=UTC:20170305T170000
DTSTAMP:20260421T094832
CREATED:20170302T105006Z
LAST-MODIFIED:20170302T105006Z
UID:1103-1488182400-1488733200@burgstraat.sbsgeel.be
SUMMARY:Krokusvakantie
DESCRIPTION:
URL:https://burgstraat.sbsgeel.be/event/krokusvakantie/
END:VEVENT
BEGIN:VEVENT
DTSTART;VALUE=DATE:20170127
DTEND;VALUE=DATE:20170128
DTSTAMP:20260421T094832
CREATED:20161115T122356Z
LAST-MODIFIED:20161115T122356Z
UID:685-1485475200-1485561599@burgstraat.sbsgeel.be
SUMMARY:Pedagogische studiedag
DESCRIPTION:Schoolpoort gesloten
URL:https://burgstraat.sbsgeel.be/event/pedagogische-studiedag-2/
END:VEVENT
BEGIN:VEVENT
DTSTART;TZID=UTC:20170112T200000
DTEND;TZID=UTC:20170112T220000
DTSTAMP:20260421T094832
CREATED:20161115T122302Z
LAST-MODIFIED:20161115T122302Z
UID:683-1484251200-1484258400@burgstraat.sbsgeel.be
SUMMARY:Ouderraad
DESCRIPTION:
URL:https://burgstraat.sbsgeel.be/event/ouderraad-3/
END:VEVENT
BEGIN:VEVENT
DTSTART;VALUE=DATE:20170109
DTEND;VALUE=DATE:20170110
DTSTAMP:20260421T094832
CREATED:20161115T122218Z
LAST-MODIFIED:20161115T122218Z
UID:681-1483920000-1484006399@burgstraat.sbsgeel.be
SUMMARY:Instapdag kleutertjes
DESCRIPTION:
URL:https://burgstraat.sbsgeel.be/event/instapdag-kleutertjes/
END:VEVENT
BEGIN:VEVENT
DTSTART;VALUE=DATE:20161224
DTEND;VALUE=DATE:20170109
DTSTAMP:20260421T094832
CREATED:20161115T122138Z
LAST-MODIFIED:20161115T122138Z
UID:679-1482537600-1483919999@burgstraat.sbsgeel.be
SUMMARY:Kerstvakantie
DESCRIPTION:
URL:https://burgstraat.sbsgeel.be/event/kerstvakantie/
END:VEVENT
BEGIN:VEVENT
DTSTART;TZID=UTC:20161222T160000
DTEND;TZID=UTC:20161222T170000
DTSTAMP:20260421T094832
CREATED:20161115T122056Z
LAST-MODIFIED:20161115T122056Z
UID:677-1482422400-1482426000@burgstraat.sbsgeel.be
SUMMARY:Oudercontact LO
DESCRIPTION:
URL:https://burgstraat.sbsgeel.be/event/oudercontact-lo/
END:VEVENT
BEGIN:VEVENT
DTSTART;TZID=UTC:20161221T080000
DTEND;TZID=UTC:20161221T120000
DTSTAMP:20260421T094832
CREATED:20161115T122015Z
LAST-MODIFIED:20161115T122015Z
UID:675-1482307200-1482321600@burgstraat.sbsgeel.be
SUMMARY:Kennismakingsdag peuters  0KO
DESCRIPTION:
URL:https://burgstraat.sbsgeel.be/event/kennismakingsdag-peuters-0ko/
END:VEVENT
BEGIN:VEVENT
DTSTART;TZID=UTC:20161213T160000
DTEND;TZID=UTC:20161213T170000
DTSTAMP:20260421T094832
CREATED:20161115T121844Z
LAST-MODIFIED:20161115T121844Z
UID:671-1481644800-1481648400@burgstraat.sbsgeel.be
SUMMARY:Oudercontact KO
DESCRIPTION:
URL:https://burgstraat.sbsgeel.be/event/oudercontact-ko/
END:VEVENT
BEGIN:VEVENT
DTSTART;TZID=UTC:20161205T090000
DTEND;TZID=UTC:20161205T120000
DTSTAMP:20260421T094832
CREATED:20161115T121800Z
LAST-MODIFIED:20161115T121800Z
UID:669-1480928400-1480939200@burgstraat.sbsgeel.be
SUMMARY:Sint op school
DESCRIPTION:
URL:https://burgstraat.sbsgeel.be/event/sint-op-school/
END:VEVENT
BEGIN:VEVENT
DTSTART;TZID=UTC:20161201T190000
DTEND;TZID=UTC:20161201T210000
DTSTAMP:20260421T094832
CREATED:20161115T121722Z
LAST-MODIFIED:20161115T121722Z
UID:667-1480618800-1480626000@burgstraat.sbsgeel.be
SUMMARY:Ouderraad
DESCRIPTION:
URL:https://burgstraat.sbsgeel.be/event/ouderraad-2/
END:VEVENT
BEGIN:VEVENT
DTSTART;VALUE=DATE:20161120
DTEND;VALUE=DATE:20161121
DTSTAMP:20260421T094832
CREATED:20161115T121925Z
LAST-MODIFIED:20161115T121925Z
UID:673-1479600000-1479686399@burgstraat.sbsgeel.be
SUMMARY:Kidoe KO
DESCRIPTION:
URL:https://burgstraat.sbsgeel.be/event/kidoe-ko/
END:VEVENT
BEGIN:VEVENT
DTSTART;VALUE=DATE:20161111
DTEND;VALUE=DATE:20161112
DTSTAMP:20260421T094832
CREATED:20161115T121510Z
LAST-MODIFIED:20161115T121510Z
UID:661-1478822400-1478908799@burgstraat.sbsgeel.be
SUMMARY:Wapenstilstand
DESCRIPTION:
URL:https://burgstraat.sbsgeel.be/event/wapenstilstand/
END:VEVENT
BEGIN:VEVENT
DTSTART;TZID=UTC:20161108T200000
DTEND;TZID=UTC:20161108T220000
DTSTAMP:20260421T094832
CREATED:20161115T121430Z
LAST-MODIFIED:20161115T121430Z
UID:659-1478635200-1478642400@burgstraat.sbsgeel.be
SUMMARY:Ouderraad
DESCRIPTION:
URL:https://burgstraat.sbsgeel.be/event/ouderraad/
END:VEVENT
BEGIN:VEVENT
DTSTART;TZID=UTC:20161107T080000
DTEND;TZID=UTC:20161107T170000
DTSTAMP:20260421T094832
CREATED:20161115T121345Z
LAST-MODIFIED:20161115T121345Z
UID:657-1478505600-1478538000@burgstraat.sbsgeel.be
SUMMARY:Instapdag Kleuters
DESCRIPTION:
URL:https://burgstraat.sbsgeel.be/event/instapdag-kleuters/
END:VEVENT
END:VCALENDAR